BEGIN:VCALENDAR
VERSION:2.0
PRODID:-//ChamberMaster//Event Calendar 2.0//EN
METHOD:PUBLISH
X-PUBLISHED-TTL:P3D
REFRESH-INTERVAL:P3D
CALSCALE:GREGORIAN
BEGIN:VEVENT
DTSTART;VALUE=DATE:20150410
DTEND;VALUE=DATE:20150411
TRANSP:TRANSPARENT
X-MICROSOFT-CDO-ALLDAYEVENT:TRUE
SUMMARY:Shoot for the Chamber Clay Shoot
DESCRIPTION:
X-ALT-DESC;FMTTYPE=text/html:
LOCATION:
UID:e.9104.778
SEQUENCE:3
DTSTAMP:20260422T145947Z
URL:https://travel.laketexomaonline.com/events/details/shoot-for-the-chamber-clay-shoot-04-10-2015-778
END:VEVENT

END:VCALENDAR
